BEGIN:VCALENDAR
VERSION:2.0
PRODID:-//Wellington Yoga Centre - ECPv4.2//NONSGML v1.0//EN
CALSCALE:GREGORIAN
METHOD:PUBLISH
X-WR-CALNAME:Wellington Yoga Centre
X-ORIGINAL-URL:http://wellingtonyogacentre.co.nz
X-WR-CALDESC:Events for Wellington Yoga Centre
BEGIN:VEVENT
DTSTART;TZID=UTC+13:20181219T180000
DTEND;TZID=UTC+13:20181219T193000
DTSTAMP:20181222T034959
CREATED:20180609T053339
LAST-MODIFIED:20180921T060840
UID:16648-1545242400-1545247800@wellingtonyogacentre.co.nz
SUMMARY:Yoga general level - Iyengar (Lucinda)
DESCRIPTION:6.00 - 7.30pm   Casuals welcome\n\nLucinda is a certified Iyengar yoga teacher to Junior Intermediate II level
URL:http://wellingtonyogacentre.co.nz/session/yoga-general-level-iyengar-lucinda/2018-12-19/
END:VEVENT
END:VCALENDAR