BEGIN:VCALENDAR
VERSION:2.0
PRODID:-//Wellington Yoga Centre - ECPv4.2//NONSGML v1.0//EN
CALSCALE:GREGORIAN
METHOD:PUBLISH
X-WR-CALNAME:Wellington Yoga Centre
X-ORIGINAL-URL:http://wellingtonyogacentre.co.nz
X-WR-CALDESC:Events for Wellington Yoga Centre
BEGIN:VEVENT
DTSTART;TZID=UTC+13:20181217T174500
DTEND;TZID=UTC+13:20181217T191500
DTSTAMP:20181222T034943
CREATED:20180611T031019
LAST-MODIFIED:20180611T031019
UID:16611-1545068700-1545074100@wellingtonyogacentre.co.nz
SUMMARY:Yoga - Iyengar Level 1 (Susie)
DESCRIPTION:5.45 -7.15 pm
URL:http://wellingtonyogacentre.co.nz/session/yoga-iyengar-level-1-susie/2018-12-17/
END:VEVENT
END:VCALENDAR